BEGIN:VCALENDAR
VERSION:2.0
PRODID:-//wp-events-plugin.com//7.2.3.1//EN
BEGIN:VEVENT
UID:20@centraltexasgardens.com
DTSTART;TZID=America/Chicago:20241112T183000
DTEND;TZID=America/Chicago:20241112T210000
DTSTAMP:20240811T192401Z
URL:https://centraltexasgardens.com/events/the-hill-country-bloomers-2024-
 11-12/
SUMMARY:The Hill Country Bloomers
DESCRIPTION:\nThe Hill Country Bloomers meet the second Tuesday of each mon
 th (except December) at 7pm at the Cedar Park Recreation Center at 1435 Ma
 in Street. Arrive at 6:30pm to meet other gardeners\, plant swap\, and enj
 oy some snacks. Visit https://hcbloomers.org for more information.\n\n\n\n
 \n
CATEGORIES:Garden Group Meetings
LOCATION:Cedar Park Recreation Center\, 1435 Main St\, Cedar Park\, Texas\,
  78613\, United States
X-APPLE-STRUCTURED-LOCATION;VALUE=URI;X-ADDRESS=1435 Main St\, Cedar Park\,
  Texas\, 78613\, United States;X-APPLE-RADIUS=100;X-TITLE=Cedar Park Recre
 ation Center:geo:0,0
END:VEVENT
BEGIN:VTIMEZONE
TZID:America/Chicago
X-LIC-LOCATION:America/Chicago
BEGIN:STANDARD
DTSTART:20241103T010000
TZOFFSETFROM:-0500
TZOFFSETTO:-0600
TZNAME:CST
END:STANDARD
END:VTIMEZONE
END:VCALENDAR